BEGIN:VCALENDAR
VERSION:2.0
PRODID:-//BookIt! - ECPv6.15.20//NONSGML v1.0//EN
CALSCALE:GREGORIAN
METHOD:PUBLISH
X-WR-CALNAME:BookIt!
X-ORIGINAL-URL:https://aalam.profreed.com
X-WR-CALDESC:Events for BookIt!
REFRESH-INTERVAL;VALUE=DURATION:PT1H
X-Robots-Tag:noindex
X-PUBLISHED-TTL:PT1H
BEGIN:VTIMEZONE
TZID:America/Los_Angeles
BEGIN:DAYLIGHT
TZOFFSETFROM:-0800
TZOFFSETTO:-0700
TZNAME:PDT
DTSTART:20250309T100000
END:DAYLIGHT
BEGIN:STANDARD
TZOFFSETFROM:-0700
TZOFFSETTO:-0800
TZNAME:PST
DTSTART:20251102T090000
END:STANDARD
BEGIN:DAYLIGHT
TZOFFSETFROM:-0800
TZOFFSETTO:-0700
TZNAME:PDT
DTSTART:20260308T100000
END:DAYLIGHT
BEGIN:STANDARD
TZOFFSETFROM:-0700
TZOFFSETTO:-0800
TZNAME:PST
DTSTART:20261101T090000
END:STANDARD
BEGIN:DAYLIGHT
TZOFFSETFROM:-0800
TZOFFSETTO:-0700
TZNAME:PDT
DTSTART:20270314T100000
END:DAYLIGHT
BEGIN:STANDARD
TZOFFSETFROM:-0700
TZOFFSETTO:-0800
TZNAME:PST
DTSTART:20271107T090000
END:STANDARD
END:VTIMEZONE
BEGIN:VEVENT
DTSTART;TZID=America/Los_Angeles:20260420T120000
DTEND;TZID=America/Los_Angeles:20260420T133000
DTSTAMP:20260421T165935
CREATED:20260417T044505Z
LAST-MODIFIED:20260417T044811Z
UID:106-1776686400-1776691800@aalam.profreed.com
SUMMARY:Travel Through Stories Book Club
DESCRIPTION:Join us for a monthly online discussion where we talk about the featured book and the destination it’s based on. Customers can share thoughts\, favorite moments\, and travel ideas inspired by the story. This event will be hosted on April 16th\, and we hope to see you there.
URL:https://aalam.profreed.com/event/travel-through-stories-book-club/
END:VEVENT
END:VCALENDAR